BEGIN:VCALENDAR
VERSION:2.0
PRODID:-//My Community Diary//iCal Event//EN
CALSCALE:GREGORIAN
METHOD:PUBLISH
BEGIN:VEVENT
UID:31f0cce8-0787-48f2-8b78-fc3ccdfef66e
DTSTAMP:20260422T002807Z
DTSTART;VALUE=DATE:20260517
DTEND;VALUE=DATE:20260518
SUMMARY:Wagga Wagga Country Music Club Events
DESCRIPTION:Wagga Wagga Country Music Club have local and guest artists who perform monthly at the Wagga Wagga RSL Club.\n\nPlease join them for these wonderful events\, showcasing many talented performers.
LOCATION:\, Kincaid Street & Dobbs Street\, Wagga Wagga\, NSW 2650\, NSW\, 2650
RRULE:FREQ=DAILY;INTERVAL=1;UNTIL=20260519T000000Z
END:VEVENT
END:VCALENDAR
