BEGIN:VCALENDAR
VERSION:2.0
PRODID:-//My Community Diary//iCal Event//EN
CALSCALE:GREGORIAN
METHOD:PUBLISH
BEGIN:VEVENT
UID:48f84b27-00af-4042-b6e5-4a09e80c13f0
DTSTAMP:20260422T005003Z
DTSTART;VALUE=DATE:20260517
DTEND;VALUE=DATE:20260518
SUMMARY:Wagga Stamp and Coin Fair
DESCRIPTION:Wagga Stamp and Coin Fair is back again this year with a friendly stamp and coin fair with seven dealers in attendance for buying\, selling and providing free valuations.   \n\nStamp and Coin Club bargain table.
LOCATION:\, White Avenue\, Kooringal\, NSW 2650\, NSW\, 2650
RRULE:FREQ=DAILY;INTERVAL=1;UNTIL=20260519T000000Z
END:VEVENT
END:VCALENDAR
