BEGIN:VCALENDAR
VERSION:2.0
PRODID:-//My Community Diary//iCal Event//EN
CALSCALE:GREGORIAN
METHOD:PUBLISH
BEGIN:VEVENT
UID:aa3edd58-ec5c-4f65-a7c9-2ca56ed6ef22
DTSTAMP:20260421T211437Z
DTSTART;VALUE=DATE:20260516
DTEND;VALUE=DATE:20260517
SUMMARY:Wagga Stamp and Coin Fair
DESCRIPTION:Wagga Stamp and Coin Fair is back again this year with a friendly stamp and coin fair with seven dealers in attendance for buying\, selling and providing free valuations.   \n\nStamp and Coin Club bargain table.
LOCATION:\, White Avenue\, Kooringal\, NSW 2650\, NSW\, 2650
RRULE:FREQ=DAILY;INTERVAL=1;UNTIL=20260518T000000Z
END:VEVENT
END:VCALENDAR
