BEGIN:VCALENDAR
VERSION:2.0
PRODID:-//My Community Diary//iCal Event//EN
CALSCALE:GREGORIAN
METHOD:PUBLISH
BEGIN:VEVENT
UID:fed7c481-7c45-4d9a-b53a-a3f12b2305d9
DTSTAMP:20260422T002837Z
DTSTART;VALUE=DATE:20260927
DTEND;VALUE=DATE:20260928
SUMMARY:Wagga Lake Run and Ride
DESCRIPTION:The Intersport Warehouse Wagga Lake Run and Ride is a free run\, walk or ride community participation event. \n\nWalk\, run or ride 5 kilometres or 10 kilometres through the streets of Wagga and around the shores of Lake Albert.\n\nJoin Wagga's largest free community participation event.
LOCATION:\, Apex Park\, Lake Albert\, Wagga Wagga\, NSW 2650\, NSW\, 2650
END:VEVENT
END:VCALENDAR
