BEGIN:VCALENDAR
VERSION:2.0
PRODID:-//My Community Diary//iCal Event//EN
CALSCALE:GREGORIAN
METHOD:PUBLISH
BEGIN:VEVENT
UID:051bd464-867b-4812-bea3-27ff4360a6d1
DTSTAMP:20260422T015638Z
DTSTART;VALUE=DATE:20260601
DTEND;VALUE=DATE:20260602
SUMMARY:Vivid Sydney Dinner Cruise
DESCRIPTION:This relaxed Vivid Sydney dinner cruise offers amazing value for money. \n\nQuality contemporary Australian three-course dining and live entertainment\, all set against the spectacular backdrop of Vivid Sydney lights. Expansive windows throughout the vessel offer superb views no matter where you are seated.\n\nHighlights include\; The full canvas of Vivid Lights from the water\; 3-course menu\; Live music nightly\; Individual restaurant seating\; Up to 3 hours of relaxed cruising onboard your air-conditioned cruiser from the Captain Cook fleet with expansive windows and outdoor decks\; A photographer's and Instagrammer's dream with spacious outdoor open leisure decks to capture Sydney's iconic Sydney Opera House and Harbour Bridge by night.\n\nEntry Cost\nAdult $109  - Check online for specials. Child Menu (4-15 yrs) $65\nCruises depart Darling Harbour King St Wharf\, 7:00pm and return 10:00pm
LOCATION:\, King Street Wharf 1 10 The Promenade\, Sydney\, NSW 2000\, NSW\, 2000
RRULE:FREQ=DAILY;INTERVAL=1;UNTIL=20260603T000000Z
END:VEVENT
END:VCALENDAR
