BEGIN:VCALENDAR
VERSION:2.0
PRODID:-//My Community Diary//iCal Event//EN
CALSCALE:GREGORIAN
METHOD:PUBLISH
BEGIN:VEVENT
UID:96d25313-fb78-4d1e-bc32-ac3419781f52
DTSTAMP:20260421T205454Z
DTSTART;VALUE=DATE:20260608
DTEND;VALUE=DATE:20260609
SUMMARY:Vivid Sydney 2026
DESCRIPTION:Vivid Sydney is Sydney's annual festival of Light\, Music\, Ideas and Food\,\n\nVivid Sydney will take place from Friday 22 May to Saturday 13 June 2026.
LOCATION:\, Bennelong Point\, Sydney Harbour\, NSW 2000\, NSW\, 2000
RRULE:FREQ=DAILY;INTERVAL=1;UNTIL=20260610T000000Z
END:VEVENT
END:VCALENDAR
