BEGIN:VCALENDAR
VERSION:2.0
PRODID:-//My Community Diary//iCal Event//EN
CALSCALE:GREGORIAN
METHOD:PUBLISH
BEGIN:VEVENT
UID:8a9dd510-1fa0-4183-8451-4b4c17d5fc8a
DTSTAMP:20260422T015619Z
DTSTART;VALUE=DATE:20260606
DTEND;VALUE=DATE:20260607
SUMMARY:Vivid Sydney 2026
DESCRIPTION:Vivid Sydney is Sydney's annual festival of Light\, Music\, Ideas and Food\,\n\nVivid Sydney will take place from Friday 22 May to Saturday 13 June 2026.
LOCATION:\, Bennelong Point\, Sydney Harbour\, NSW 2000\, NSW\, 2000
RRULE:FREQ=DAILY;INTERVAL=1;UNTIL=20260608T000000Z
END:VEVENT
END:VCALENDAR
