BEGIN:VCALENDAR
VERSION:2.0
PRODID:-//My Community Diary//iCal Event//EN
CALSCALE:GREGORIAN
METHOD:PUBLISH
BEGIN:VEVENT
UID:bea66c9c-21f7-4b08-98a6-8db350dd1a7f
DTSTAMP:20260422T071607Z
DTSTART;VALUE=DATE:20260605
DTEND;VALUE=DATE:20260606
SUMMARY:Vivid Sydney 2026
DESCRIPTION:Vivid Sydney is Sydney's annual festival of Light\, Music\, Ideas and Food\,\n\nVivid Sydney will take place from Friday 22 May to Saturday 13 June 2026.
LOCATION:\, Bennelong Point\, Sydney Harbour\, NSW 2000\, NSW\, 2000
RRULE:FREQ=DAILY;INTERVAL=1;UNTIL=20260607T000000Z
END:VEVENT
END:VCALENDAR
