BEGIN:VCALENDAR
VERSION:2.0
PRODID:-//My Community Diary//iCal Event//EN
CALSCALE:GREGORIAN
METHOD:PUBLISH
BEGIN:VEVENT
UID:9b067b1a-b58f-4cc4-8e7d-a59fac4b624a
DTSTAMP:20260422T073326Z
DTSTART;VALUE=DATE:20260603
DTEND;VALUE=DATE:20260604
SUMMARY:Vivid Sydney 2026
DESCRIPTION:Vivid Sydney is Sydney's annual festival of Light\, Music\, Ideas and Food\,\n\nVivid Sydney will take place from Friday 22 May to Saturday 13 June 2026.
LOCATION:\, Bennelong Point\, Sydney Harbour\, NSW 2000\, NSW\, 2000
RRULE:FREQ=DAILY;INTERVAL=1;UNTIL=20260605T000000Z
END:VEVENT
END:VCALENDAR
