BEGIN:VCALENDAR
VERSION:2.0
PRODID:-//My Community Diary//iCal Event//EN
CALSCALE:GREGORIAN
METHOD:PUBLISH
BEGIN:VEVENT
UID:f3aa1324-bb47-4cff-b1bb-1decb9dc1b73
DTSTAMP:20260421T224421Z
DTSTART;VALUE=DATE:20260530
DTEND;VALUE=DATE:20260531
SUMMARY:Vivid Sydney 2026
DESCRIPTION:Vivid Sydney is Sydney's annual festival of Light\, Music\, Ideas and Food\,\n\nVivid Sydney will take place from Friday 22 May to Saturday 13 June 2026.
LOCATION:\, Bennelong Point\, Sydney Harbour\, NSW 2000\, NSW\, 2000
RRULE:FREQ=DAILY;INTERVAL=1;UNTIL=20260601T000000Z
END:VEVENT
END:VCALENDAR
