BEGIN:VCALENDAR
VERSION:2.0
PRODID:-//My Community Diary//iCal Event//EN
CALSCALE:GREGORIAN
METHOD:PUBLISH
BEGIN:VEVENT
UID:5c0a820e-0593-4748-b34b-3efb190c6e03
DTSTAMP:20260422T002846Z
DTSTART;VALUE=DATE:20260613
DTEND;VALUE=DATE:20260614
SUMMARY:Vivid Dinner Special
DESCRIPTION:This relaxed early dining experience offers amazing value for money with a quality two-course menu. This early Vivid Sydney Special Dinner cruise is perfectly timed for sunset. Time to relax and enjoy your meal before the second big reveal of the night – `lights on' for Vivid Sydney at Circular Quay.\n\nAfter your cruise\, meander along the boardwalk to Cockle Bay and immerse yourself in the installations in Barangaroo and Darling Harbour\, or take the Vivid Sydney Light Walk east past Walsh Bay to Circular Quay.\n\nHighlights include: See the lights of Vivid turn on at 6.00pm\; Individual restaurant seating\; 2-course menu\; Up to 2 hours onboard your air-conditioned cruiser from the Captain Cook fleet with expansive windows\; \; A photographer's and Instagrammer's dream with spacious outdoor open leisure decks to capture the Sydney Opera House\, Harbour Bridge and more.\n\nEntry Cost\nAdult $85  - Check online for specials. Child Menu (4-15 yrs) $49. \nCruises depart Darling Harbour King St Wharf\, board 4:45pm\, depart 5:00pm and return approx 6:45pm-7:00pm
LOCATION:\, King Street Wharf 1 10 The Promenade\, Sydney\, NSW 2000\, NSW\, 2000
RRULE:FREQ=DAILY;INTERVAL=1;UNTIL=20260615T000000Z
END:VEVENT
END:VCALENDAR
