BEGIN:VCALENDAR
VERSION:2.0
PRODID:-//My Community Diary//iCal Event//EN
CALSCALE:GREGORIAN
METHOD:PUBLISH
BEGIN:VEVENT
UID:e0a41ec3-87fe-4a7c-a149-c136f3bdaca0
DTSTAMP:20260422T160606Z
DTSTART;VALUE=DATE:20260516
DTEND;VALUE=DATE:20260517
SUMMARY:Village Markets Tarcutta
DESCRIPTION:Come and enjoy Tarcutta's monthly markets\, featuring a large range of community-led stalls. You will find homegrown products\, plants\, homewares\, jewellery\, pre-loved goods\, books and much more. \n\nThere is always a barbecue sizzling for those after a sausage sandwich\, and various food options from treats to beverages are also available.
LOCATION:\, Sydney Street\, Tarcutta\, NSW 2652\, NSW\, 2652
RRULE:FREQ=DAILY;INTERVAL=1;UNTIL=20260518T000000Z
END:VEVENT
END:VCALENDAR
