BEGIN:VCALENDAR
VERSION:2.0
PRODID:-//My Community Diary//iCal Event//EN
CALSCALE:GREGORIAN
METHOD:PUBLISH
BEGIN:VEVENT
UID:fbd4a157-a220-4add-ac13-63c0d19e85b8
DTSTAMP:20260421T223036Z
DTSTART;VALUE=DATE:20261018
DTEND;VALUE=DATE:20261019
SUMMARY:Upper Hunter Quilt Adventure
DESCRIPTION:Upper Hunter Quilt Adventure offers an opportunity for quilters to display their quilts. This is not a competition\, but there will be a prize for the viewer's choice.  \n\nThe quilts will be displayed in the Scone Arts & Crafts building in Scone\, NSW. This building has two halls.  The main hall will have the quilts\, and the second hall will have some displays from quilt supplies.\n\nThe Arts & Crafts also has a large garden\, and this is where you will find market stalls. The local ceramic group will also be opening the pot house so you can learn more about what happens there.\n\nLight lunch and good coffee will be available over the weekend.\n\nEntry Cost\nAll tickets $5  - Adult $5.00\n\nChildren under 12 years free.
LOCATION:\, 63 Kingdom Street Jefferson Park Aberdeen\, Scone\, NSW 2337\, NSW\, 2337
RRULE:FREQ=DAILY;INTERVAL=1;UNTIL=20261020T000000Z
END:VEVENT
END:VCALENDAR
