BEGIN:VCALENDAR
VERSION:2.0
PRODID:-//My Community Diary//iCal Event//EN
CALSCALE:GREGORIAN
METHOD:PUBLISH
BEGIN:VEVENT
UID:59204af1-5533-499c-9118-4391d0cbf0f0
DTSTAMP:20260423T140121Z
DTSTART;VALUE=DATE:20260605
DTEND;VALUE=DATE:20260606
SUMMARY:Unlikely Friends
DESCRIPTION:'Real besties don't just make time\, they bend time'\n\nDid Frida Kahlo and Marco Polo really meet at Schoolies?\n\nWho dominated the music round in Andre the Giant and Neil Armstrong's pub trivia team?\n\nWho played Wing Defence in William Shakespeare and Marie Curie's mixed netball team?\n\nDamian Callinan hosts an improvised chat show with a rotating duo of comedians and improvisors taking on historical roles as they reinvent the past\, revealing how they became Unlikely Friends.\n\nWho will launch themselves into the historical mosh pit at the Wagga Comedy Fest? As Napoleon Bonaparte once said on the Graeme Norton Show\, 'History is a set of lies agreed upon'.\n\nEntry Cost\nAll tickets $40  - Adult $50.00\nConcession $45.00\nMember $40.00
LOCATION:\, 8 Cross Street\, Wagga Wagga\, NSW 2650\, NSW\, 2650
END:VEVENT
END:VCALENDAR
