BEGIN:VCALENDAR
VERSION:2.0
PRODID:-//My Community Diary//iCal Event//EN
CALSCALE:GREGORIAN
METHOD:PUBLISH
BEGIN:VEVENT
UID:19977951-8ebe-4d99-bc20-27083f9cf4fe
DTSTAMP:20260422T002840Z
DTSTART;VALUE=DATE:20261011
DTEND;VALUE=DATE:20261012
SUMMARY:Ulladulla Wharf Markets
DESCRIPTION:Ulladulla Wharf Markets is held on the second Sunday of each month at the Ulladulla Harbour.\n\nThis is a great market to visit with stallholders selling locally produced items\, vintage wares and always great coffee to be enjoyed as you stroll the beautiful harbour.
LOCATION:\, Ulladulla Wharf\, Wason Street\, Ulladulla\, NSW 2539\, NSW\, 2539
RRULE:FREQ=DAILY;INTERVAL=1;UNTIL=20261013T000000Z
END:VEVENT
END:VCALENDAR
