BEGIN:VCALENDAR
VERSION:2.0
PRODID:-//My Community Diary//iCal Event//EN
CALSCALE:GREGORIAN
METHOD:PUBLISH
BEGIN:VEVENT
UID:66b934fc-093b-4f15-aa12-7059e02d1545
DTSTAMP:20260422T015724Z
DTSTART;VALUE=DATE:20260913
DTEND;VALUE=DATE:20260914
SUMMARY:Ulladulla Wharf Markets
DESCRIPTION:Ulladulla Wharf Markets is held on the second Sunday of each month at the Ulladulla Harbour.\n\nThis is a great market to visit with stallholders selling locally produced items\, vintage wares and always great coffee to be enjoyed as you stroll the beautiful harbour.
LOCATION:\, Ulladulla Wharf\, Wason Street\, Ulladulla\, NSW 2539\, NSW\, 2539
RRULE:FREQ=DAILY;INTERVAL=1;UNTIL=20260915T000000Z
END:VEVENT
END:VCALENDAR
