BEGIN:VCALENDAR
VERSION:2.0
PRODID:-//My Community Diary//iCal Event//EN
CALSCALE:GREGORIAN
METHOD:PUBLISH
BEGIN:VEVENT
UID:ca9f79c3-d397-419e-bb47-565ef8cb6df5
DTSTAMP:20260421T205335Z
DTSTART;VALUE=DATE:20260712
DTEND;VALUE=DATE:20260713
SUMMARY:Ulladulla Wharf Markets
DESCRIPTION:Ulladulla Wharf Markets is held on the second Sunday of each month at the Ulladulla Harbour.\n\nThis is a great market to visit with stallholders selling locally produced items\, vintage wares and always great coffee to be enjoyed as you stroll the beautiful harbour.
LOCATION:\, Ulladulla Wharf\, Wason Street\, Ulladulla\, NSW 2539\, NSW\, 2539
RRULE:FREQ=DAILY;INTERVAL=1;UNTIL=20260714T000000Z
END:VEVENT
END:VCALENDAR
