BEGIN:VCALENDAR
VERSION:2.0
PRODID:-//My Community Diary//iCal Event//EN
CALSCALE:GREGORIAN
METHOD:PUBLISH
BEGIN:VEVENT
UID:a38f83e4-9133-4999-8aec-fb46f6e411a2
DTSTAMP:20260422T045923Z
DTSTART;VALUE=DATE:20260705
DTEND;VALUE=DATE:20260706
SUMMARY:Tynwald Day Flag Lowering
DESCRIPTION:Tynwald is the name of the Parliament of the Isle of Man - one of the acknowledged Celtic nations in Glen Innes Highlands. The Australian Standing Stones Management Board will conduct a flag lowering ceremony to acknowledge Tynwald Day. \n\nJoin in the celebration\, hear about the Isle of Man\, and enjoy a toast to the Manx people along with a taste of some traditional Manx food.
LOCATION:\, Watsons Drive\, Glen Innes\, NSW 2370\, NSW\, 2370
END:VEVENT
END:VCALENDAR
