BEGIN:VCALENDAR
VERSION:2.0
PRODID:-//My Community Diary//iCal Event//EN
CALSCALE:GREGORIAN
METHOD:PUBLISH
BEGIN:VEVENT
UID:d6fb6814-c569-4104-8bb5-a7213a771939
DTSTAMP:20260422T071348Z
DTSTART;VALUE=DATE:20260927
DTEND;VALUE=DATE:20260928
SUMMARY:Tyalgum Music Festival
DESCRIPTION:Tyalgum Music Festival returns for its 34th year with 8 concerts held in the historic Tyalgum Community Hall. What will take your fancy…. Opera\, a Harp recital\, William Walton's "Façade\," Schubert's Piano Quintet "The Trout\," a concert of Baroque concertos\, an award winning animation film\, inspiring stars of the future or a Big Band?
LOCATION:\, Coolman St\, Tyalgum\, NSW 2484\, NSW\, 2484
RRULE:FREQ=DAILY;INTERVAL=1;UNTIL=20260929T000000Z
END:VEVENT
END:VCALENDAR
