BEGIN:VCALENDAR
VERSION:2.0
PRODID:-//My Community Diary//iCal Event//EN
CALSCALE:GREGORIAN
METHOD:PUBLISH
BEGIN:VEVENT
UID:b8ae7d9c-51b4-4305-96d8-2d87d6a9ea25
DTSTAMP:20260421T205433Z
DTSTART;VALUE=DATE:20260926
DTEND;VALUE=DATE:20260927
SUMMARY:Tyalgum Music Festival
DESCRIPTION:Tyalgum Music Festival returns for its 34th year with 8 concerts held in the historic Tyalgum Community Hall. What will take your fancy…. Opera\, a Harp recital\, William Walton's "Façade\," Schubert's Piano Quintet "The Trout\," a concert of Baroque concertos\, an award winning animation film\, inspiring stars of the future or a Big Band?
LOCATION:\, Coolman St\, Tyalgum\, NSW 2484\, NSW\, 2484
RRULE:FREQ=DAILY;INTERVAL=1;UNTIL=20260928T000000Z
END:VEVENT
END:VCALENDAR
