BEGIN:VCALENDAR
VERSION:2.0
PRODID:-//My Community Diary//iCal Event//EN
CALSCALE:GREGORIAN
METHOD:PUBLISH
BEGIN:VEVENT
UID:f22f88ce-0d10-4504-9103-967002d9bd24
DTSTAMP:20260422T001616Z
DTSTART;VALUE=DATE:20261227
DTEND;VALUE=DATE:20261228
SUMMARY:Tuross Community Markets
DESCRIPTION:The Tuross Community Market is held on the second and fourth Sunday of each month. Located along Evans Road at Tuross Head\, the market features fresh produce\, homewares\, clothing and more.
LOCATION:\, Evans Road\, Tuross Head\, NSW 2537\, NSW\, 2537
RRULE:FREQ=DAILY;INTERVAL=1;UNTIL=20261229T000000Z
END:VEVENT
END:VCALENDAR
