BEGIN:VCALENDAR
VERSION:2.0
PRODID:-//My Community Diary//iCal Event//EN
CALSCALE:GREGORIAN
METHOD:PUBLISH
BEGIN:VEVENT
UID:ce4e91d0-6a78-40ea-a846-29fb10e90291
DTSTAMP:20260422T045945Z
DTSTART;VALUE=DATE:20261011
DTEND;VALUE=DATE:20261012
SUMMARY:Tuross Community Markets
DESCRIPTION:The Tuross Community Market is held on the second and fourth Sunday of each month. Located along Evans Road at Tuross Head\, the market features fresh produce\, homewares\, clothing and more.
LOCATION:\, Evans Road\, Tuross Head\, NSW 2537\, NSW\, 2537
RRULE:FREQ=DAILY;INTERVAL=1;UNTIL=20261013T000000Z
END:VEVENT
END:VCALENDAR
