BEGIN:VCALENDAR
VERSION:2.0
PRODID:-//My Community Diary//iCal Event//EN
CALSCALE:GREGORIAN
METHOD:PUBLISH
BEGIN:VEVENT
UID:22289261-98de-46d6-9db2-f9261aad73f9
DTSTAMP:20260422T015615Z
DTSTART;VALUE=DATE:20260809
DTEND;VALUE=DATE:20260810
SUMMARY:Tuross Community Markets
DESCRIPTION:The Tuross Community Market is held on the second and fourth Sunday of each month. Located along Evans Road at Tuross Head\, the market features fresh produce\, homewares\, clothing and more.
LOCATION:\, Evans Road\, Tuross Head\, NSW 2537\, NSW\, 2537
RRULE:FREQ=DAILY;INTERVAL=1;UNTIL=20260811T000000Z
END:VEVENT
END:VCALENDAR
