BEGIN:VCALENDAR
VERSION:2.0
PRODID:-//My Community Diary//iCal Event//EN
CALSCALE:GREGORIAN
METHOD:PUBLISH
BEGIN:VEVENT
UID:a470d173-05ff-44fb-80cb-cb13f6495fc1
DTSTAMP:20260422T001617Z
DTSTART;VALUE=DATE:20260726
DTEND;VALUE=DATE:20260727
SUMMARY:Tuross Community Markets
DESCRIPTION:The Tuross Community Market is held on the second and fourth Sunday of each month. Located along Evans Road at Tuross Head\, the market features fresh produce\, homewares\, clothing and more.
LOCATION:\, Evans Road\, Tuross Head\, NSW 2537\, NSW\, 2537
RRULE:FREQ=DAILY;INTERVAL=1;UNTIL=20260728T000000Z
END:VEVENT
END:VCALENDAR
