BEGIN:VCALENDAR
VERSION:2.0
PRODID:-//My Community Diary//iCal Event//EN
CALSCALE:GREGORIAN
METHOD:PUBLISH
BEGIN:VEVENT
UID:d6221eb5-40d6-474e-9111-e6e331b77db8
DTSTAMP:20260422T002712Z
DTSTART;VALUE=DATE:20260510
DTEND;VALUE=DATE:20260511
SUMMARY:Tuross Community Markets
DESCRIPTION:The Tuross Community Market is held on the second and fourth Sunday of each month. Located along Evans Road at Tuross Head\, the market features fresh produce\, homewares\, clothing and more.
LOCATION:\, Evans Road\, Tuross Head\, NSW 2537\, NSW\, 2537
RRULE:FREQ=DAILY;INTERVAL=1;UNTIL=20260512T000000Z
END:VEVENT
END:VCALENDAR
