BEGIN:VCALENDAR
VERSION:2.0
PRODID:-//My Community Diary//iCal Event//EN
CALSCALE:GREGORIAN
METHOD:PUBLISH
BEGIN:VEVENT
UID:a59b0be8-92ca-4a15-90d7-a3ab1f78bca2
DTSTAMP:20260422T033642Z
DTSTART;VALUE=DATE:20260814
DTEND;VALUE=DATE:20260815
SUMMARY:Tullamore Show
DESCRIPTION:Experience the vibrant blend of farming excellence and community celebration at the annual Tullamore Agricultural Show.\n\nThis fun filled family event features a diverse range of attractions including ring events\, sideshow alley\, horse and show jumping events\, livestock judging\, poultry\, crop competition and speed shearing competition. The Championship Dog Show is always a crowd favourite and one not to be missed. \n\nDiscover a truly great agricultural show that’s also a must-attend social highlight of the year.
LOCATION:\, Cornet Street\, Tullamore\, NSW 2874\, NSW\, 2874
RRULE:FREQ=DAILY;INTERVAL=1;UNTIL=20260816T000000Z
END:VEVENT
END:VCALENDAR
