BEGIN:VCALENDAR
VERSION:2.0
PRODID:-//My Community Diary//iCal Event//EN
CALSCALE:GREGORIAN
METHOD:PUBLISH
BEGIN:VEVENT
UID:05726eb4-c703-4073-b372-a5a8624e284b
DTSTAMP:20260422T020207Z
DTSTART;VALUE=DATE:20260611
DTEND;VALUE=DATE:20260612
SUMMARY:Tubular Bells - Civic Theatre\, Newcastle
DESCRIPTION:Mike Oldfield's iconic\, seminal work will be performed by an expansive live group\, led and arranged by Mike Oldfield's long-term collaborator\, Robin A Smith.  \n\nThe concert will see Tubular Bells performed in full\, plus extended sections of Tubular Bells II and III\, as well as the worldwide hit single Moonlight Shadow.
LOCATION:\, 375 Hunter Street\, Newcastle\, NSW 2300\, NSW\, 2300
END:VEVENT
END:VCALENDAR
