BEGIN:VCALENDAR
VERSION:2.0
PRODID:-//My Community Diary//iCal Event//EN
CALSCALE:GREGORIAN
METHOD:PUBLISH
BEGIN:VEVENT
UID:f340ad1f-79b4-42e5-bc63-85862dc1f07a
DTSTAMP:20260422T021058Z
DTSTART;VALUE=DATE:20260704
DTEND;VALUE=DATE:20260705
SUMMARY:Truffle Hunt - Cobargo
DESCRIPTION:Food lovers agree that a truffle hunt is on their list of ‘Top Ten Things to Do.’ Experience the thrill of the hunt with Fiona\, Alan and the truffle dogs amazing nose at the first trufferie on the east coast of New South Wales. \n\nThe trufferie is uniquely located in the shadows of Gulaga Mountain\, with its age-old history. Your three-hour experience reveals the mystery of truffles and includes the hunt and sampling the rare and splendid umami of their truffles in a curated tasting of delicacies. \n\nGulaga Gold Truffle Hunts have a maximum group size of fifteen to ensure the requisite hunt intimacy and satisfaction. Family or private hunts can also be arranged.\n\nEntry Cost\nAdult $120 \nFamily $300 
LOCATION:\, 701 Reedy Creek Road\, Cobargo\, NSW 2550\, NSW\, 2550
RRULE:FREQ=DAILY;INTERVAL=1;UNTIL=20260706T000000Z
END:VEVENT
END:VCALENDAR
