BEGIN:VCALENDAR
VERSION:2.0
PRODID:-//My Community Diary//iCal Event//EN
CALSCALE:GREGORIAN
METHOD:PUBLISH
BEGIN:VEVENT
UID:06fb8ad7-a7df-4743-b489-b1a06c473cdf
DTSTAMP:20260422T073322Z
DTSTART;VALUE=DATE:20260728
DTEND;VALUE=DATE:20260729
SUMMARY:Trivia at Club Jamberoo
DESCRIPTION:Club Jamberoo is turning Tuesday into the best night of the week.\n\nBring your A-game (or just your sense of humour) because Carly is hosting and the questions are as fun as they are challenging. Expect general knowledge\, pop culture\, and a few curveballs to keep you on your toes.\n\nPlay solo or round up your dream team. Win Club Cash and—most importantly—bragging rights until next month.\n\nGrab your friends\, grab a table\, and make your Tuesday night unforgettable.\n\nSee you there!
LOCATION:\, 11 Allowrie Street\, Jamberoo\, NSW 2533\, NSW\, 2533
RRULE:FREQ=DAILY;INTERVAL=1;UNTIL=20260730T000000Z
END:VEVENT
END:VCALENDAR
