BEGIN:VCALENDAR
VERSION:2.0
PRODID:-//My Community Diary//iCal Event//EN
CALSCALE:GREGORIAN
METHOD:PUBLISH
BEGIN:VEVENT
UID:88b7e157-9bb0-44ea-b7b5-53f366902a5d
DTSTAMP:20260422T002655Z
DTSTART;VALUE=DATE:20260607
DTEND;VALUE=DATE:20260608
SUMMARY:Trash Test Dummies
DESCRIPTION:The Trash Test Dummies are as full of laughs as their bins are full of surprises. This "delightfully intelligent\, highly entertaining" (Herald Sun) family adventure takes the humble household wheelie bin to new heights.\n\nEveryone put your bins out\, tonight's bin night and the Trash Test Dummies are on duty. With side-splitting slapstick comedy\, daring acrobatics and dexterous juggling these Dummies are off on an imaginative adventure that is anything but garbage.\n\nWith ballet and balloons thrown in for good measure\, this fast-paced hour of "adept unadulterated mischief" (The Times) delivers a dump truck full of hilarity!\n\nEntry Cost\nAll tickets $30  - One Price $35.00\nMember $30.00
LOCATION:\, Burns Way\, Wagga Wagga\, NSW 2650\, NSW\, 2650
END:VEVENT
END:VCALENDAR
