BEGIN:VCALENDAR
VERSION:2.0
PRODID:-//My Community Diary//iCal Event//EN
CALSCALE:GREGORIAN
METHOD:PUBLISH
BEGIN:VEVENT
UID:526f4713-e6a3-4980-a18d-bc012b3cf675
DTSTAMP:20260422T000641Z
DTSTART;VALUE=DATE:20260919
DTEND;VALUE=DATE:20260920
SUMMARY:Town2Beach
DESCRIPTION:Lace up and hit the ground running for Town2Beach\, Narrandera's family-friendly and competitive run\, walk or ride event that journeys from town to the river's edge. \n\nWith distances to suit all abilities\, Town2Beach is all about participation\, encouragement and enjoying the journey. Whether you're chasing a personal best\, jogging with friends\, walking with family\, or cheering from the sidelines\, this is an event where everyone belongs. \n\nWith a range of distances including 7 kilometres\, 13 kilometres\, a half-marathon and a kids' 1 kilometre\, there's something for the whole family. Along the courses are lollies\, water and Gatorade for runners. Participants receive a medal upon completion and are welcome and encouraged to stay for food and drinks.\n\nThis event is based at the Brewery Flat Reserve and is organised by Bidgee Fitness Inc.
LOCATION:\, Narrandera\, NSW 2700\, NSW\, 2700
END:VEVENT
END:VCALENDAR
