BEGIN:VCALENDAR
VERSION:2.0
PRODID:-//My Community Diary//iCal Event//EN
CALSCALE:GREGORIAN
METHOD:PUBLISH
BEGIN:VEVENT
UID:a429740b-1eeb-4838-b16e-56c147a67ecc
DTSTAMP:20260422T004958Z
DTSTART;VALUE=DATE:20261216
DTEND;VALUE=DATE:20261217
SUMMARY:Town Beach Sunrise Yoga Port Macquarie
DESCRIPTION:Come for the yoga\, flow to the sunrise\, stay for the coffee.\n\nTown Beach Sunrise Yoga happens every Wednesday morning (weather permitting) at beautiful Town Beach in Port Macquarie\, right next to Salty Crew Kiosk.\n\nJoin a 30-minute yoga flow guided by qualified teacher - Shelley\, and soak up the sounds of the waves at Town Beach\, the stunning sunrise and the smell of the coffee.\n\nThis is the perfect way to start your day and is open to all ages and abilities. \n\nIncludes your brew from the Salty Crew Kiosk after class. \n\nBring your mat\, a towel and your keep cup. No booking is required.
LOCATION:\, Stewart Street\, Port Macquarie\, NSW 2444\, NSW\, 2444
RRULE:FREQ=DAILY;INTERVAL=1;UNTIL=20261218T000000Z
END:VEVENT
END:VCALENDAR
