BEGIN:VCALENDAR
VERSION:2.0
PRODID:-//My Community Diary//iCal Event//EN
CALSCALE:GREGORIAN
METHOD:PUBLISH
BEGIN:VEVENT
UID:21aaab92-b9ae-4921-bd99-43a139ddbfa5
DTSTAMP:20260421T224404Z
DTSTART;VALUE=DATE:20261225
DTEND;VALUE=DATE:20261226
SUMMARY:Too Deadly: Ten Years of Tarnanthi
DESCRIPTION:Tarnanthi is a national festival of contemporary Aboriginal and Torres Strait Islander art presented by Art Gallery of South Australia in partnership with Broken Hill Propriety Company Limited and with the support of the Government of South Australia\, assisted by the Australian Government's Visions of Australia program. Since 2015\, Tarnanthi has established itself as a nation-leader in showcasing the nuanced complexity and ingenuity of contemporary Aboriginal and Torres Strait Islander art.\n\nToo Deadly presents major highlight works of artistic excellence from a decade of Tarnanthi festivals\, with more than thirty ground-breaking works by Aboriginal and Torres Strait Islander artists from across the country.\n\nThis national touring exhibition features innovative\, significant and memorable works\, some of them conceived specifically for Tarnanthi. Several are monumental in their scale\, others are immense in the cultural importance of the stories they tell. All reflect the creative vitality and adaptive genius of contemporary Aboriginal and Torres Strait Islander artists.
LOCATION:\, 230 High Street\, Maitland\, NSW 2320\, NSW\, 2320
RRULE:FREQ=DAILY;INTERVAL=1;UNTIL=20261227T000000Z
END:VEVENT
END:VCALENDAR
