BEGIN:VCALENDAR
VERSION:2.0
PRODID:-//My Community Diary//iCal Event//EN
CALSCALE:GREGORIAN
METHOD:PUBLISH
BEGIN:VEVENT
UID:c18decc9-28f7-4af2-b905-7b00dd08079b
DTSTAMP:20260422T015755Z
DTSTART;VALUE=DATE:20260822
DTEND;VALUE=DATE:20260823
SUMMARY:Tommy Little
DESCRIPTION:After a decade of being fuelled by whiskey and adrenaline\, Tommy decided it was time to treat his body to some wellness.\n\nEven he couldn't have predicted just how badly it would go.\n\nTommy Little has a gift for turning life's mishaps into riotous comedy gold. With his mischievous grin and irreverent charm\, Tommy delivers laughs with a bold and irrepressible sense of fun.\n\nSeen on Taskmaster Australia and Talkin' 'Bout Your Gen.\nWinner – Weekly Award\, Adelaide Fringe 2024\n\nEntry Cost\nAdult $59 \nConcession $54 \nGroup $54  - Group 6+\nMember $54 
LOCATION:\, 525 Swift St\, Albury\, NSW 2640\, NSW\, 2640
END:VEVENT
END:VCALENDAR
