BEGIN:VCALENDAR
VERSION:2.0
PRODID:-//My Community Diary//iCal Event//EN
CALSCALE:GREGORIAN
METHOD:PUBLISH
BEGIN:VEVENT
UID:014d1881-4708-400e-869a-a4ebdd8e6c43
DTSTAMP:20260421T222400Z
DTSTART;VALUE=DATE:20260524
DTEND;VALUE=DATE:20260525
SUMMARY:Tom Burlinson
DESCRIPTION:Tom Burlinson ' Now We're  Swingin'\n\nCome fly with Tom Burlinson and a fabulous band of top musicians as Tom salutes the masters of vocal swing: Frank Sinatra\, Nat 'King' Cole\, Dean Martin\, Tony Bennett\, Sammy Davis Jr\, and Bobby Darin. \n\nAlso celebrating the swing superstars of today\, Harry Connick Jr and Michael Bublé.
LOCATION:\, 1 Grant Street\, Ballina\, NSW 2478\, NSW\, 2478
END:VEVENT
END:VCALENDAR
