BEGIN:VCALENDAR
VERSION:2.0
PRODID:-//My Community Diary//iCal Event//EN
CALSCALE:GREGORIAN
METHOD:PUBLISH
BEGIN:VEVENT
UID:11e3af8d-1edb-4b0d-a555-91febddb7111
DTSTAMP:20260423T102901Z
DTSTART;VALUE=DATE:20261025
DTEND;VALUE=DATE:20261026
SUMMARY:Tocal Homestead Open Days
DESCRIPTION:Bring a picnic to have on the lawns\, enjoy the gardens\, and follow the maps as you explore the site with your own audio guides. \n\nDevonshire teas and refreshments\, along with publications and items crafted by the Friends of Tocal\, are on offer at the Visitor Centre.  \n\nNo need to book\, just pop on in. \n\nFor groups of ten people or more\, bookings are preferred.\n\nEntry Cost\nAdult $15 \nConcession $10 \nChild $2  - Children aged 2-16 years
LOCATION:\, 957 Tocal Road\, Tocal\, NSW 2421\, NSW\, 2421
RRULE:FREQ=DAILY;INTERVAL=1;UNTIL=20261027T000000Z
END:VEVENT
END:VCALENDAR
