BEGIN:VCALENDAR
VERSION:2.0
PRODID:-//My Community Diary//iCal Event//EN
CALSCALE:GREGORIAN
METHOD:PUBLISH
BEGIN:VEVENT
UID:1b5ca7eb-44ca-4f3c-bdf9-9cb13d63a195
DTSTAMP:20260422T035548Z
DTSTART;VALUE=DATE:20260501
DTEND;VALUE=DATE:20260502
SUMMARY:Timeless Creations: Resin Clock Workshop
DESCRIPTION:Create a statement piece that's as stylish as it is you.\nGet ready for the most show-stopping resin class of the season\, because this workshop is all about crafting your very own 40cm custom resin clock that's guaranteed to steal the spotlight in any room!\nStep into a session filled with bold colours\, shimmering details\, relaxed vibes\, and that signature Allettare creative magic.\nYou'll be guided step-by-step through the art of large-scale resin design\, exploring stunning pours\, dreamy techniques\, and effects that bring your clock to life.\nIt's luxe\, immersive\, confidence-boosting… and the ultimate creative glow-up.\n\nEntry Cost\nAll tickets $245 
LOCATION:\, 2 Mitchell Road 23\, Cardiff\, NSW 2285\, NSW\, 2285
END:VEVENT
END:VCALENDAR
