BEGIN:VCALENDAR
VERSION:2.0
PRODID:-//My Community Diary//iCal Event//EN
CALSCALE:GREGORIAN
METHOD:PUBLISH
BEGIN:VEVENT
UID:06da7962-b9b7-4b49-b3a2-0811c59983ef
DTSTAMP:20260423T102936Z
DTSTART;VALUE=DATE:20260926
DTEND;VALUE=DATE:20260927
SUMMARY:Tilba Festival
DESCRIPTION:The Tilba Festival is one of Eurobodalla's most cherished community celebrations\, with a proud history spanning more than 30 years. Held in the heritage village of Central Tilba at the foot of Gulaga/Mt Dromedary\, the festival is a vibrant showcase of the region's Indigenous heritage\, colonial history\, and contemporary creativity.\n\nDesigned for both locals and visitors\, the festival attracts families\, culture and wellness seekers\, food lovers\, and travellers from across NSW\, ACT\, Victoria\, and beyond.\n\nAudiences enjoy an immersive day of live music across two stages\, artisan markets\, heritage displays\, children's activities\, old-fashioned street games\, and regional food and beverages\, all set within Tilba's picturesque main street and surrounding landscapes.
LOCATION:\, 2 Bate Street\, Central Tilba\, NSW 2546\, NSW\, 2546
END:VEVENT
END:VCALENDAR
