BEGIN:VCALENDAR
VERSION:2.0
PRODID:-//My Community Diary//iCal Event//EN
CALSCALE:GREGORIAN
METHOD:PUBLISH
BEGIN:VEVENT
UID:3d28d8b4-edbd-4092-99e6-e7aab20476cf
DTSTAMP:20260422T054322Z
DTSTART;VALUE=DATE:20260425
DTEND;VALUE=DATE:20260426
SUMMARY:Tickled Pink
DESCRIPTION:Step into a world awash with shades of pink\, where fashion\, memories\, and everyday life intertwine. Tickled Pink – Rosy Recollections showcases a curated collection of pink costumes\, fashion pieces\, familiar objects and their unique stories. \n\nFrom delicate fabrics to cherished keepsakes\, this exhibition celebrates the enduring charm and cultural significance of the colour pink in personal and collective histories. \n\nJoin them as you explore how these rosy hues have left their mark on style\, sentiment and society in Port Macquarie and beyond.\n\nEntry Cost\nAll tickets $3  - Adults $7\nConcessions $5\nChildren $3\nFamilies $15
LOCATION:\, 22 Clarence Street\, Port Macquarie\, NSW 2444\, NSW\, 2444
RRULE:FREQ=DAILY;INTERVAL=1;UNTIL=20260427T000000Z
END:VEVENT
END:VCALENDAR
