BEGIN:VCALENDAR
VERSION:2.0
PRODID:-//My Community Diary//iCal Event//EN
CALSCALE:GREGORIAN
METHOD:PUBLISH
BEGIN:VEVENT
UID:f8ad15a7-f46d-4c66-becb-a6f3f06b6e53
DTSTAMP:20260422T001939Z
DTSTART;VALUE=DATE:20260422
DTEND;VALUE=DATE:20260423
SUMMARY:Thin Ice - Virtual Reality Experience
DESCRIPTION:In this immersive VR experience\, produced by award-winning studio Monkeystack\, follow in the footsteps of Shackleton and relive the treacherous expedition. As part of Shackleton's crew\, experience the moment the Endurance slipped below the ice\, leaving the explorers stranded and alone. Journey through the Antarctic\, trekking over perilous ice peaks and down steep icy descents on the quest for safer ground. Stand within shifting glacier walls and uncover an unsettling reality. Shackleton was on a mission to save his men from the ice. Today\, we must save the ice from us. See with your own eyes the devastating effects of climate change on the region\, as thawing ice threatens the balance of this delicate ecosystem.\n\nThin Ice VR is an unmissable experience.\n\nA Monkeystack and Shackleton Epic Adventure Production.\n\nEntry Cost\nAdult $10 
LOCATION:\, 11 Dent Street\, Huskisson\, NSW 2540\, NSW\, 2540
RRULE:FREQ=DAILY;INTERVAL=1;UNTIL=20260424T000000Z
END:VEVENT
END:VCALENDAR
