BEGIN:VCALENDAR
VERSION:2.0
PRODID:-//My Community Diary//iCal Event//EN
CALSCALE:GREGORIAN
METHOD:PUBLISH
BEGIN:VEVENT
UID:863f1074-6b66-4e44-b131-714fed896569
DTSTAMP:20260422T014831Z
DTSTART;VALUE=DATE:20260625
DTEND;VALUE=DATE:20260626
SUMMARY:The Welcome Choir
DESCRIPTION:Think karaoke in a bar singing shoulder to shoulder with friends new and old\, a drop-in choir with no auditions and no need to read music as it is taught by ear. Each gathering will be a brand-new song.\n\nThe Welcome Choir is an open\, safe\, friendly\, all-genders\, all-ages singing group of all singing abilities. Coming to The Welcome Choir is a great way to make new friends\, express yourself authentically and step out of your comfort zone. Focused on having a joyful and uplifting experience singing pop songs from many decades of great music together in beautiful harmony.\n\nThe start of each session will be a fun vocal warm-up helping to control the voice by the talented and experienced choirmaster\, Bek Jensen.\n\nWelcome Choir began in 2016 as a Not-for-Profit organisation in the heart of Newtown\, Sydney at the Newtown Neighbourhood Centre. Starting with 20 participants that met once a week\, this number grew quickly and within a year\, moved to a bigger venue.\n\nEntry Cost\nAll tickets $15  - $15 online presale price\n$20 for door sales (if tickets are still available)
LOCATION:\, 141 Mann Street\, Gosford\, NSW 2250\, NSW\, 2250
RRULE:FREQ=DAILY;INTERVAL=1;UNTIL=20260627T000000Z
END:VEVENT
END:VCALENDAR
