BEGIN:VCALENDAR
VERSION:2.0
PRODID:-//My Community Diary//iCal Event//EN
CALSCALE:GREGORIAN
METHOD:PUBLISH
BEGIN:VEVENT
UID:211f722d-3054-48fc-bd7e-634304d0eed6
DTSTAMP:20260422T035551Z
DTSTART;VALUE=DATE:20260612
DTEND;VALUE=DATE:20260613
SUMMARY:The Undercover Magician
DESCRIPTION:Cameron Leo doesn't claim anything supernatural\, but he has a knack for reading a room\, pulling thoughts from the crowd\, and landing predictions that hit far too close to home.\n\nA former undercover police officer turned psychological magician\, Cameron has performed across Australia for major brands and events including Disney\, Origin Energy\, Telstra\, Foxtel\, and Tiffany & Co. Now he brings that same precision to the theatre in his debut live production.\n\nIn The Undercover Magician\, the whole audience is part of the show\, and your mind becomes the stage. It's crowd-powered mentalism built to play across the room. \n\nBetween the mind reading and the impossible moments\, Cameron shares true stories from his time undercover\, the kind that teach you how quickly people give themselves away\, and how easily we can be influenced. \n\nThis show will leave you with more questions than answers.\n\nEntry Cost\nAll tickets $48 
LOCATION:\, John Hoare Close\, Woy Woy\, NSW 2256\, NSW\, 2256
RRULE:FREQ=DAILY;INTERVAL=1;UNTIL=20260614T000000Z
END:VEVENT
END:VCALENDAR
