BEGIN:VCALENDAR
VERSION:2.0
PRODID:-//My Community Diary//iCal Event//EN
CALSCALE:GREGORIAN
METHOD:PUBLISH
BEGIN:VEVENT
UID:06e93e04-08be-4bbe-9774-36fcb504872d
DTSTAMP:20260422T054324Z
DTSTART;VALUE=DATE:20260716
DTEND;VALUE=DATE:20260717
SUMMARY:The Ultimate Rod Stewart - Tonight's The Night
DESCRIPTION:Rob Caudill\, renowned for his uncanny resemblance to the legendary Rod Stewart\, continues to captivate audiences worldwide. Whether he's stopped in airports for autographs or turning heads in restaurants\, Caudill's presence is unmistakable.\n\nWhen he steps on stage\, the crowd's reaction is electric. Women scream themselves hoarse\, and it's easy to see why. Caudill is a dead on Rod Stewart tribute\, boasting the high definition jawline\, the iconic spiky blonde hair\, and\, most importantly\, the nose. His naturally raspy voice mirrors Stewart's distinctive sound\, effortlessly hitting every high note from Stewart's younger days.
LOCATION:\, 1 Grant Street\, Ballina\, NSW 2478\, NSW\, 2478
END:VEVENT
END:VCALENDAR
