BEGIN:VCALENDAR
VERSION:2.0
PRODID:-//My Community Diary//iCal Event//EN
CALSCALE:GREGORIAN
METHOD:PUBLISH
BEGIN:VEVENT
UID:6a6152cd-d666-4e04-86bf-a8584c07d48f
DTSTAMP:20260422T015613Z
DTSTART;VALUE=DATE:20260823
DTEND;VALUE=DATE:20260824
SUMMARY:The Tyalgum Hotel Country Music Weekend
DESCRIPTION:The Tyalgum Country Music Festival is a boutique\, immersive regional music event held annually in August in the scenic village of Tyalgum\, NSW. Set against the dramatic backdrop of Wollumbin/Mount Warning and the Tweed Valley\, the festival blends live Australian country music\, rural charm\, and authentic community experiences.
LOCATION:\, 39 Coolman Street\, Tyalgum\, NSW 2484\, NSW\, 2484
RRULE:FREQ=DAILY;INTERVAL=1;UNTIL=20260825T000000Z
END:VEVENT
END:VCALENDAR
