BEGIN:VCALENDAR
VERSION:2.0
PRODID:-//My Community Diary//iCal Event//EN
CALSCALE:GREGORIAN
METHOD:PUBLISH
BEGIN:VEVENT
UID:1cd6dd39-2344-48df-97e6-843ff80ce6ff
DTSTAMP:20260422T054356Z
DTSTART;VALUE=DATE:20260712
DTEND;VALUE=DATE:20260713
SUMMARY:The Spice Route of India
DESCRIPTION:Mogul (Classic) cooking of North India and regional Indian cooking are part of this class. Emphasising the jewels of the Indian pantry - spices\, aromatics\, ghee\, legumes\, basmati rice and more.\n\nClass includes tuition\, recipes and meals with regional wine\, beer or soft drinks.\n\nEntry Cost\nAll tickets $215 
LOCATION:\, 29 Kunzea Place\, Springvale\, NSW 2650\, NSW\, 2650
END:VEVENT
END:VCALENDAR
