BEGIN:VCALENDAR
VERSION:2.0
PRODID:-//My Community Diary//iCal Event//EN
CALSCALE:GREGORIAN
METHOD:PUBLISH
BEGIN:VEVENT
UID:549db331-7f93-432b-a322-c379b1ab2ebb
DTSTAMP:20260421T222550Z
DTSTART;VALUE=DATE:20270207
DTEND;VALUE=DATE:20270208
SUMMARY:The Rock Triathlon
DESCRIPTION:The Rock Triathlon is back. The event caters to all ages and fitness levels and is included in the Riverina Tri-Series. Proceedings for the day include a sprint\, enticer\, walkathon\, junior and sub-junior. Teams are welcome.\n\nCome along and enjoy a great day out in beautiful\, natural surroundings. All events will start at The Rock Recreation Ground\, Victoria Park in Wilson Street\, The Rock.\n\nAll entries must be registered online.
LOCATION:\, Wilson Street\, The Rock\, NSW 2655\, NSW\, 2655
END:VEVENT
END:VCALENDAR
