BEGIN:VCALENDAR
VERSION:2.0
PRODID:-//My Community Diary//iCal Event//EN
CALSCALE:GREGORIAN
METHOD:PUBLISH
BEGIN:VEVENT
UID:d4917499-9311-45fa-b312-94f57fde42f1
DTSTAMP:20260422T035612Z
DTSTART;VALUE=DATE:20261007
DTEND;VALUE=DATE:20261008
SUMMARY:The Quizzical Mr Jeff
DESCRIPTION:The Quizzical Mr Jeff is a versatile circus showman and magician renowned for his unique blend of object manipulation\, whimsical illusions\, and engaging humour. Globally renowned for redefining what's possible with circus hoops\, Mr Jeff brings 11 hoops to life in stunning mandalas and living geometry\, mesmerising audiences with skill and precision in these never seen before circus tricks.\n\nBlending slapstick comedy\, circus skill and physical control\, Mr Jeff climbs inside a 6-foot giant balloon in a surreal and side-splitting act that never fails to steal the show! Set to orchestral music with minimal spoken word\, this show is a delightful mix of illusion\, dazzling circus feats and mind-bending magic\, inviting audiences of all ages to experience the enchanting world of The Quizzical Mr Jeff.\n\nEntry Cost\nAll tickets $15  - Adult                    $35\nQ Members      $25\nUnder 16           $15\nFamily of 4        $75
LOCATION:\, 253 Crawford Street\, Queanbeyan\, NSW 2620\, NSW\, 2620
END:VEVENT
END:VCALENDAR
