BEGIN:VCALENDAR
VERSION:2.0
PRODID:-//My Community Diary//iCal Event//EN
CALSCALE:GREGORIAN
METHOD:PUBLISH
BEGIN:VEVENT
UID:41637006-c57f-4b01-b3b1-f6bbe0d2cfd8
DTSTAMP:20260422T050239Z
DTSTART;VALUE=DATE:20261213
DTEND;VALUE=DATE:20261214
SUMMARY:The Princess Bride
DESCRIPTION:A perfect blend of romance\, adventure\, and comedy\, The Princess Bride follows a beautiful young woman and her one true love as they overcome separation\, treacherous villains\, and the dangers of the mythical kingdom of Florin to be reunited. Based on William Goldman's novel\, this cult classic is full of unforgettable characters\, quotable lines\, and timeless adventure that has captivated audiences for generations.\n\nPresented by Southern Tablelands Arts as part of STA Screen 2026\n\nEntry Cost\nAll tickets $5  - Adult                  $12\nQ Members    $10\nU16                     $5
LOCATION:\, 253 Crawford Street\, Queanbeyan\, NSW 2620\, NSW\, 2620
END:VEVENT
END:VCALENDAR
