BEGIN:VCALENDAR
VERSION:2.0
PRODID:-//My Community Diary//iCal Event//EN
CALSCALE:GREGORIAN
METHOD:PUBLISH
BEGIN:VEVENT
UID:e294b1eb-d8a2-4352-8bc6-471c95707105
DTSTAMP:20260422T001826Z
DTSTART;VALUE=DATE:20261002
DTEND;VALUE=DATE:20261003
SUMMARY:The Peter Allen Festival
DESCRIPTION:The Peter Allen Festival is a vibrant three-day celebration of the life\, music and global legacy of Australian icon Peter Allen\, held in his hometown of Tenterfield.\n\nSet against the historic streets that inspired the classic song Tenterfield Saddler\, the festival brings together music lovers\, performers\, families and visitors from across Australia for a joyful weekend of live performances\, mass singalongs\, storytelling\, food and community spirit.
LOCATION:\, Tenterfield\, NSW 2372\, NSW\, 2372
RRULE:FREQ=DAILY;INTERVAL=1;UNTIL=20261004T000000Z
END:VEVENT
END:VCALENDAR
