BEGIN:VCALENDAR
VERSION:2.0
PRODID:-//My Community Diary//iCal Event//EN
CALSCALE:GREGORIAN
METHOD:PUBLISH
BEGIN:VEVENT
UID:08f13fd7-a7be-418c-a952-bb3a6e92ce7e
DTSTAMP:20260422T003025Z
DTSTART;VALUE=DATE:20261107
DTEND;VALUE=DATE:20261108
SUMMARY:The Olive Tree Market
DESCRIPTION:The Olive Tree Market features a curated line-up of over 130 of the best emerging and established artists\, designers\, makers\, gourmet artisan food producers\, and delicious street food purveyors each month. \n\nJoin them on the first Saturday of every month to support local creators & enjoy some of the tastiest food and drinks Newcastle has to offer!
LOCATION:\, King Street\, Newcastle\, NSW 2300\, NSW\, 2300
RRULE:FREQ=DAILY;INTERVAL=1;UNTIL=20261109T000000Z
END:VEVENT
END:VCALENDAR
